BEGIN:VCALENDAR
VERSION:2.0
PRODID:-//Southern Ocean Sports - ECPv6.15.20//NONSGML v1.0//EN
CALSCALE:GREGORIAN
METHOD:PUBLISH
X-ORIGINAL-URL:https://southernoceansports.com
X-WR-CALDESC:Events for Southern Ocean Sports
REFRESH-INTERVAL;VALUE=DURATION:PT1H
X-Robots-Tag:noindex
X-PUBLISHED-TTL:PT1H
BEGIN:VTIMEZONE
TZID:America/New_York
BEGIN:DAYLIGHT
TZOFFSETFROM:-0500
TZOFFSETTO:-0400
TZNAME:EDT
DTSTART:20250309T070000
END:DAYLIGHT
BEGIN:STANDARD
TZOFFSETFROM:-0400
TZOFFSETTO:-0500
TZNAME:EST
DTSTART:20251102T060000
END:STANDARD
BEGIN:DAYLIGHT
TZOFFSETFROM:-0500
TZOFFSETTO:-0400
TZNAME:EDT
DTSTART:20260308T070000
END:DAYLIGHT
BEGIN:STANDARD
TZOFFSETFROM:-0400
TZOFFSETTO:-0500
TZNAME:EST
DTSTART:20261101T060000
END:STANDARD
BEGIN:DAYLIGHT
TZOFFSETFROM:-0500
TZOFFSETTO:-0400
TZNAME:EDT
DTSTART:20270314T070000
END:DAYLIGHT
BEGIN:STANDARD
TZOFFSETFROM:-0400
TZOFFSETTO:-0500
TZNAME:EST
DTSTART:20271107T060000
END:STANDARD
END:VTIMEZONE
BEGIN:VEVENT
DTSTART;TZID=America/New_York:20260422T190000
DTEND;TZID=America/New_York:20260422T210000
DTSTAMP:20260422T193027
CREATED:20260113T202232Z
LAST-MODIFIED:20260113T202232Z
UID:2837-1776884400-1776891600@southernoceansports.com
SUMMARY:SDI Advanced Course
DESCRIPTION:SDI Advanced Scuba Diver Course\nRefine Your Skills and Expand Your Underwater Horizons \nThe SDI Advanced Scuba Diver program is a unique “earned” certification designed to make you a more versatile and confident diver. Unlike many introductory programs\, this course focuses on practical application across various specialties\, ensuring you are well-equipped for a diverse range of diving environments. \n\nCourse Structure & Requirements\n\n\nTuition: $174.95 (Course fee only; dives not included) \n\n\nAcademic Session: One evening of comprehensive classroom instruction. \n\n\nField Training: Completion of five specialized dives is required\, including: \n\n\nDeep Diving & Navigation (Compass and Natural) \n\n\nNight\, Wreck\, or Drift Diving \n\n\n\n\nPrerequisite: Students must purchase and complete their eLearning code prior to the scheduled classroom date.
URL:https://southernoceansports.com/event/sdi-advanced-course-14/
LOCATION:Southern Ocean Sports\, 1607 N. Ashely Street\, Valdosta\, GA\, 31602\, United States
CATEGORIES:Course's
END:VEVENT
END:VCALENDAR