BEGIN:VCALENDAR
VERSION:2.0
PRODID:-//Southern Ocean Sports - ECPv6.15.20//NONSGML v1.0//EN
CALSCALE:GREGORIAN
METHOD:PUBLISH
X-ORIGINAL-URL:https://southernoceansports.com
X-WR-CALDESC:Events for Southern Ocean Sports
REFRESH-INTERVAL;VALUE=DURATION:PT1H
X-Robots-Tag:noindex
X-PUBLISHED-TTL:PT1H
BEGIN:VTIMEZONE
TZID:America/New_York
BEGIN:DAYLIGHT
TZOFFSETFROM:-0500
TZOFFSETTO:-0400
TZNAME:EDT
DTSTART:20250309T070000
END:DAYLIGHT
BEGIN:STANDARD
TZOFFSETFROM:-0400
TZOFFSETTO:-0500
TZNAME:EST
DTSTART:20251102T060000
END:STANDARD
BEGIN:DAYLIGHT
TZOFFSETFROM:-0500
TZOFFSETTO:-0400
TZNAME:EDT
DTSTART:20260308T070000
END:DAYLIGHT
BEGIN:STANDARD
TZOFFSETFROM:-0400
TZOFFSETTO:-0500
TZNAME:EST
DTSTART:20261101T060000
END:STANDARD
BEGIN:DAYLIGHT
TZOFFSETFROM:-0500
TZOFFSETTO:-0400
TZNAME:EDT
DTSTART:20270314T070000
END:DAYLIGHT
BEGIN:STANDARD
TZOFFSETFROM:-0400
TZOFFSETTO:-0500
TZNAME:EST
DTSTART:20271107T060000
END:STANDARD
END:VTIMEZONE
BEGIN:VEVENT
DTSTART;TZID=America/New_York:20260302T190000
DTEND;TZID=America/New_York:20260302T213000
DTSTAMP:20260424T041123
CREATED:20250929T203105Z
LAST-MODIFIED:20260113T200828Z
UID:2638-1772478000-1772487000@southernoceansports.com
SUMMARY:SDI Open Water Course
DESCRIPTION:Your Gateway to the Underwater World Starts Here! 🌊\nSDI Open Water Scuba Certification \nReady to breathe underwater? Before you dive in\, please note our registration process: \n\n\nIn-Store Registration Required: To ensure you are correctly enrolled\, all eLearning codes must be purchased in-person at our store. Please do not purchase codes independently online. \n\n\nPreparation: Your eLearning modules must be completed prior to the first day of class. \n\n\nLearn More: Call us at 229-244-4084 for details. \n\nStandards & Procedures 
URL:https://southernoceansports.com/event/sdi-open-water-course-11/
LOCATION:Southern Ocean Sports\, 1607 N. Ashely Street\, Valdosta\, GA\, 31602\, United States
CATEGORIES:Course's
END:VEVENT
BEGIN:VEVENT
DTSTART;TZID=America/New_York:20260314T080000
DTEND;TZID=America/New_York:20260314T170000
DTSTAMP:20260424T041123
CREATED:20250929T210230Z
LAST-MODIFIED:20250929T210230Z
UID:2651-1773475200-1773507600@southernoceansports.com
SUMMARY:Pool Session
DESCRIPTION:Times will be discussed in class.
URL:https://southernoceansports.com/event/pool-session-29/
LOCATION:Southern Ocean Sports\, 1607 N. Ashely Street\, Valdosta\, GA\, 31602\, United States
CATEGORIES:Course's
END:VEVENT
BEGIN:VEVENT
DTSTART;TZID=America/New_York:20260316T190000
DTEND;TZID=America/New_York:20260316T193000
DTSTAMP:20260424T041123
CREATED:20250929T203840Z
LAST-MODIFIED:20250929T203840Z
UID:2642-1773687600-1773689400@southernoceansports.com
SUMMARY:SDI Nitrox Course
DESCRIPTION:SDI Nitrox Course $174.95 (Dives not included) 1 night in Class & 2 Dives on Nitrox!!! \nPlease Purchase Your eLearning Code Prior to Day of Class!!! For more information call 229-244-4084 \nThe SDI Computer Nitrox course equips you with the know-how to safely harness Nitrox’s benefits\, enriching your dives with gas mixtures from 22% to 40% Oxygen.
URL:https://southernoceansports.com/event/sdi-nitrox-course-12/
LOCATION:Southern Ocean Sports\, 1607 N. Ashely Street\, Valdosta\, GA\, 31602\, United States
CATEGORIES:Course's
END:VEVENT
BEGIN:VEVENT
DTSTART;TZID=America/New_York:20260317T190000
DTEND;TZID=America/New_York:20260317T210000
DTSTAMP:20260424T041123
CREATED:20250929T205011Z
LAST-MODIFIED:20250929T205011Z
UID:2647-1773774000-1773781200@southernoceansports.com
SUMMARY:SDI Advanced Course
DESCRIPTION:SDI Advanced Scuba Diver Course $174.95 (Dives not included)For more information call 229-244-40841 Night in the Classroom then 5 Dives have to be completed {Deep\, Night\, Wreck\, Drift\, Compass Nav\, Natural Nav}Please Purchase Your eLearning Code Prior to Day of Class!!!Dives can be done on any Saltwater Trip thru Southern Ocean Sports!!!
URL:https://southernoceansports.com/event/sdi-advanced-course-12/
LOCATION:Southern Ocean Sports\, 1607 N. Ashely Street\, Valdosta\, GA\, 31602\, United States
CATEGORIES:Course's
END:VEVENT
END:VCALENDAR